BEGIN:VCALENDAR
VERSION:2.0
PRODID:-//wp-events-plugin.com//7.2.3.1//EN
TZID:Europe/Rome
X-WR-TIMEZONE:Europe/Rome
BEGIN:VEVENT
UID:0-144@lombardia.ucid.it
DTSTART;TZID=Europe/Rome:20240511T090000
DTEND;TZID=Europe/Rome:20240511T130000
DTSTAMP:20240423T091622Z
URL:https://lombardia.ucid.it/events/stati-generali-dellimprenditoria-cris
 tiana/
SUMMARY:STATI GENERALI DELL'IMPRENDITORIA CRISTIANA
DESCRIPTION:UCID Gruppo Lombardo con il Patrocinio di UCID Nazionale\, la C
 ompagnia delle Opere\, la Fondazione Centesimus Annus Pro Pontifice e l’
 Università Cattolica - con la collaborazione del Festival della Dottrina 
 Sociale e l’UNIAPAC - hanno organizzato a partire dalle ore 9.00 di sab
 ato 11 maggio 2024 la Prima Edizione degli “STATI GENERALI DELL’IMPR
 ENDITORIA CRISTIANA” presso l’Aula Magna dell’Università Cattolica
  di Milano.\n\nQuesto evento non è solo Regionale\, ma Nazionale ed Inter
 nazionale avendo coinvolto anche l’UNIAPAC (Union Intenational des Assoc
 iation Patronales Catholiques o International Christian Union of Business 
 Executives) e presenterà il pensiero ed  i punti di vista delle entità 
 organizzatrici con relativo confronto\n\nQuesto il link per il Programma: 
  11.05.2024-8_Programma SGIC.pdf.\n\nPer iscrivervi: statigenerali.eventb
 rite.it\n\nNel caso aveste necessità di pernottamento a Milano\, non esit
 ate a comunicarlo tramite la mail: ucidgruppolombardo@libero.it Vi chied
 iamo la gentilezza di mandare le richieste possibilmente entro venerdì 2
 6 aprile al fine di assicurare la miglior assistenza possibile.\n\n&nbsp\
 ;\n\n
ATTACH;FMTTYPE=image/jpeg:https://lombardia.ucid.it/wp-content/uploads/202
 4/04/Locandina-invito.jpg
END:VEVENT
BEGIN:VTIMEZONE
TZID:Europe/Rome
X-LIC-LOCATION:Europe/Rome
BEGIN:DAYLIGHT
DTSTART:20240331T030000
TZOFFSETFROM:+0100
TZOFFSETTO:+0200
TZNAME:CEST
END:DAYLIGHT
END:VTIMEZONE
END:VCALENDAR