BEGIN:VCALENDAR
VERSION:2.0
PRODID:-//wp-events-plugin.com//7.2.3.1//EN
TZID:Europe/Rome
X-WR-TIMEZONE:Europe/Rome
BEGIN:VEVENT
UID:0-157@lombardia.ucid.it
DTSTART;TZID=Europe/Rome:20241023T194500
DTEND;TZID=Europe/Rome:20241023T220000
DTSTAMP:20241015T170451Z
URL:https://lombardia.ucid.it/events/riuscimmo-a-veder-le-stelle-lindustri
 a-aerospaziale-asset-fondamentale-in-italia-e-nel-nostro-territorio/
SUMMARY:"... (RI)USCIMMO A VEDER LE STELLE” L’industria aerospaziale\, 
 asset fondamentale in Italia  e nel nostro territorio”
DESCRIPTION:Mercoledì 23 ottobre p.v. alle ore 19.45\, presso il Ristorant
 e Dinner The Mode (Villa Jucker)\, in Via Matteotti\, 3 LEGNANO\, si terr
 à un incontro della nostra Sezione dal titolo:\n"... (RI)USCIMMO A VEDER 
 LE STELLE”\nL’industria aerospaziale\, asset fondamentale in Italia e 
 nel nostro territorio”. \nRelatore: CESARE CACCIA          \n\nIl s
 ettore aerospaziale vede l’Italia certamente giocare un ruolo importante
  in tutti gli ambiti\, compreso quello dell’esplorazione dello spazio. I
 l nostro territorio vanta una tradizione storica consolidata\, di cui Leon
 ardo S.p.A. è erede\, presenza rilevante sia in termini diretti che come 
 indotto.\n\nLeonardo è un gruppo industriale internazionale che realizza 
 capacità tecnologiche in ambito Aerospazio\, Difesa &amp\; Sicurezza. Pro
 tagonista dei principali programmi strategici a livello globale\, è partn
 er tecnologico di Governi\, Amministrazioni della Difesa\, Istituzioni e i
 mprese.\n\nAffronteremo il tema con Cesare Caccia\, nostro socio e dirigen
 te del gruppo come responsabile del settore elicotteri per i mercati di fo
 rnitura governativa a livello globale.\n\nCesare Caccia si è laureato in 
 Economia aziendale e manageriale presso l’Università degli Studi di Pav
 ia\, per poi conseguire il Master in Business Administration presso l’Un
 iversità Bocconi. Dopo le prime esperienze professionali presso una socie
 tà di livello internazionale\, è entrato nel 2007 nel gruppo Leonardo\, 
 dove attualmente ricopre il ruolo di SVP Military/Government International
  Campaigns nella divisione elicotteri.\n\nCome di consueto\, per prenotare
  per Voi e per i Vostri graditi Ospiti (la cui quota di partecipazione sar
 à di 40\,00 €)\, si prega rispondere alla presente (info.bustoarsizio@u
 cid.it) o chiamare il Sig. Giorgio Piazza al numero 347/255.5345\, entro e
  non oltre il 20.10.2024.\n\n&nbsp\;\nUNIONE CRISTIANA IMPRENDITORI E DIRI
 GENTI - Sezione Bustese Alto Milanese e Valle Olona\n21052 BUSTO ARSIZIO (
 VA) – VIA DON MINZONI 1 TEL 0331/ 638232 - mail info.bustoarsizio@ucid.i
 t
ATTACH;FMTTYPE=image/jpeg:https://lombardia.ucid.it/wp-content/uploads/202
 4/10/Cesare-Caccia.jpg
CATEGORIES:Busto Arsizio
LOCATION:Ristorante Dinner The Mode (Villa Jucker)\, via Matteotti\, 3\, Le
 gnano\, MI\, 20025\, Lombardia\, Italia
X-APPLE-STRUCTURED-LOCATION;VALUE=URI;X-ADDRESS=via Matteotti\, 3\, Legnano
 \, MI\, 20025\, Lombardia\, Italia;X-APPLE-RADIUS=100;X-TITLE=Ristorante D
 inner The Mode (Villa Jucker):geo:0,0
END:VEVENT
BEGIN:VTIMEZONE
TZID:Europe/Rome
X-LIC-LOCATION:Europe/Rome
BEGIN:DAYLIGHT
DTSTART:20240331T030000
TZOFFSETFROM:+0100
TZOFFSETTO:+0200
TZNAME:CEST
END:DAYLIGHT
END:VTIMEZONE
END:VCALENDAR