BEGIN:VCALENDAR
VERSION:2.0
PRODID:-//wp-events-plugin.com//7.2.3.1//EN
TZID:Europe/Rome
X-WR-TIMEZONE:Europe/Rome
BEGIN:VEVENT
UID:0-160@lombardia.ucid.it
DTSTART;TZID=Europe/Rome:20241025T190000
DTEND;TZID=Europe/Rome:20241025T223000
DTSTAMP:20241022T092628Z
URL:https://lombardia.ucid.it/events/le-domande-dei-giovani/
SUMMARY:LE DOMANDE DEI GIOVANI
DESCRIPTION:
ATTACH;FMTTYPE=image/jpeg:https://lombardia.ucid.it/wp-content/uploads/202
 4/10/Invito_Immensa_25_ott_2024.png
CATEGORIES:Sondrio
LOCATION:IMMENSA - mensa del povero\, Largo Sindelfingen\, 13\, Sondrio\, S
 O\, 23100\, Lombardia\, Italia
X-APPLE-STRUCTURED-LOCATION;VALUE=URI;X-ADDRESS=Largo Sindelfingen\, 13\, S
 ondrio\, SO\, 23100\, Lombardia\, Italia;X-APPLE-RADIUS=100;X-TITLE=IMMENS
 A - mensa del povero:geo:0,0
END:VEVENT
BEGIN:VTIMEZONE
TZID:Europe/Rome
X-LIC-LOCATION:Europe/Rome
BEGIN:DAYLIGHT
DTSTART:20240331T030000
TZOFFSETFROM:+0100
TZOFFSETTO:+0200
TZNAME:CEST
END:DAYLIGHT
END:VTIMEZONE
END:VCALENDAR