BEGIN:VCALENDAR
VERSION:2.0
PRODID:-//wp-events-plugin.com//7.2.3.1//EN
TZID:Europe/Rome
X-WR-TIMEZONE:Europe/Rome
BEGIN:VEVENT
UID:0-147@lombardia.ucid.it
DTSTART;TZID=Europe/Rome:20240510T183000
DTEND;TZID=Europe/Rome:20240510T200000
DTSTAMP:20240508T155213Z
URL:https://lombardia.ucid.it/events/lavoro-vangelo-pace-s-ta-messa-dedica
 ta-al-mondo-del-lavoro/
SUMMARY:« LAVORO \, VANGELO\, PACE»: S.ta Messa dedicata al mondo del Lav
 oro
DESCRIPTION:Festa del lavoro 2024\nS. MESSA dedicata al mondo del LAVORO\nV
 ENERDI’ 10 MAGGIO 2024\, h. 18\,30\nBasilica di S. Nicolò\, Lecco\nSono
  invitate tutte le Associazioni/Organizzazioni/Enti che a vario titolo\,\n
 nella zona di Lecco\, sono coinvolte nel mondo del lavoro.\nSono state inv
 itate le autorità e i rappresentanti della città e del territorio.\nSono
  invitati i presidenti e i Soci del Gruppo Lombardo di UCID.\nCi auguriamo
  di essere numerosi\, motivati e uniti in un significativo\nmomento di con
 divisione e di costruzione del “bene comune”.
ATTACH;FMTTYPE=image/jpeg:https://lombardia.ucid.it/wp-content/uploads/202
 4/05/S.MESSA-lavoro-2024_page-0001.jpg
CATEGORIES:Lecco
LOCATION:Basilica di San Nicolò\, Via Mascari\, 20\, Lecco\, LC\, 23900\, 
 Lombardia\, Italia
X-APPLE-STRUCTURED-LOCATION;VALUE=URI;X-ADDRESS=Via Mascari\, 20\, Lecco\, 
 LC\, 23900\, Lombardia\, Italia;X-APPLE-RADIUS=100;X-TITLE=Basilica di San
  Nicolò:geo:0,0
END:VEVENT
BEGIN:VTIMEZONE
TZID:Europe/Rome
X-LIC-LOCATION:Europe/Rome
BEGIN:DAYLIGHT
DTSTART:20240331T030000
TZOFFSETFROM:+0100
TZOFFSETTO:+0200
TZNAME:CEST
END:DAYLIGHT
END:VTIMEZONE
END:VCALENDAR