BEGIN:VCALENDAR
VERSION:2.0
PRODID:-//wp-events-plugin.com//7.2.3.1//EN
TZID:Europe/Rome
X-WR-TIMEZONE:Europe/Rome
BEGIN:VEVENT
UID:0-153@lombardia.ucid.it
DTSTART;TZID=Europe/Rome:20240629T093000
DTEND;TZID=Europe/Rome:20240629T121500
DTSTAMP:20240621T082838Z
URL:https://lombardia.ucid.it/events/intelligenza-artificiale-conoscere-co
 mprendere-riflettere/
SUMMARY:INTELLIGENZA ARTIFICIALE: conoscere\, comprendere\, riflettere
DESCRIPTION:Dialogo con Padre Paolo Benanti\n\nDiretta sul canale YouTube d
 ella diocesi di Como:  Il Settimanale della diocesi di Como  
ATTACH;FMTTYPE=image/jpeg:https://lombardia.ucid.it/wp-content/uploads/202
 4/06/benanti29giugno_compressed.jpg
CATEGORIES:Como
LOCATION:Auditorium Collegio Gallio\, via Tolomeo Gallio\, 1\, Como\, Como\
 , 22100\, Lombardia\, Italia
X-APPLE-STRUCTURED-LOCATION;VALUE=URI;X-ADDRESS=via Tolomeo Gallio\, 1\, Co
 mo\, Como\, 22100\, Lombardia\, Italia;X-APPLE-RADIUS=100;X-TITLE=Auditori
 um Collegio Gallio:geo:0,0
END:VEVENT
BEGIN:VTIMEZONE
TZID:Europe/Rome
X-LIC-LOCATION:Europe/Rome
BEGIN:DAYLIGHT
DTSTART:20240331T030000
TZOFFSETFROM:+0100
TZOFFSETTO:+0200
TZNAME:CEST
END:DAYLIGHT
END:VTIMEZONE
END:VCALENDAR