BEGIN:VCALENDAR
VERSION:2.0
PRODID:-//wp-events-plugin.com//7.2.3.1//EN
TZID:Europe/Rome
X-WR-TIMEZONE:Europe/Rome
BEGIN:VEVENT
UID:0-152@lombardia.ucid.it
DTSTART;TZID=Europe/Rome:20240614T183000
DTEND;TZID=Europe/Rome:20240614T203000
DTSTAMP:20240611T075448Z
URL:https://lombardia.ucid.it/events/incontro-di-chiusura-dellanno-sociale
 -della-ucid-sez-di-treviglio/
SUMMARY:Incontro di chiusura dell’Anno Sociale della UCID Sez. di Trevigl
 io
DESCRIPTION:Il Presidente Luca Tirloni è lieto di invitare i Soci del Grup
 po Lombardo che avranno piacere di partecipare Venerdì 14 giugno 2024\, a
 lle ore 18.30 presso il Centro di Spiritualità del Santuario della Madonn
 a di Caravaggio.\n\nIn programma un momento di preghiera con Monsignor Ame
 deo Ferrari\, Consulente Ecclesiastico UCID Treviglio\, Rettore del Santua
 rio di Santa Maria del Fonte di Caravaggio.\n\nSeguirà la premiazione: ai
  Soci segnalati\, verrà consegnato l’Attestato per i 25 Anni di adesion
 e\,  iniziativa promossa dalla Presidenza e dal Consiglio dalla UCID Grup
 po Lombardo .\n\nAl termine seguirà un rinfresco e un brindisi a suggella
 re l’anno trascorso insieme.
END:VEVENT
BEGIN:VTIMEZONE
TZID:Europe/Rome
X-LIC-LOCATION:Europe/Rome
BEGIN:DAYLIGHT
DTSTART:20240331T030000
TZOFFSETFROM:+0100
TZOFFSETTO:+0200
TZNAME:CEST
END:DAYLIGHT
END:VTIMEZONE
END:VCALENDAR