BEGIN:VCALENDAR
VERSION:2.0
PRODID:-//wp-events-plugin.com//7.2.3.1//EN
TZID:Europe/Rome
X-WR-TIMEZONE:Europe/Rome
BEGIN:VEVENT
UID:0-150@lombardia.ucid.it
DTSTART;TZID=Europe/Rome:20240528T183000
DTEND;TZID=Europe/Rome:20240528T194500
DTSTAMP:20240524T133054Z
URL:https://lombardia.ucid.it/events/il-futuro-delleuropa/
SUMMARY:IL FUTURO DELL'EUROPA
DESCRIPTION:L'Europa del futuro: scenari e temi in vista delle elezioni\n\n
 MI'mpegno \, l'UNIONE GIURISTI CATTOLICI ITALIANI\, l'ASSOCIAZIONE COMMERC
 IALISTI CATTOLICI e UCID GRUPPO LOMBARDO organizzano una Tavola Rotonda c
 on dibattito.\n\nMartedì 28 maggio 2024 dalle ore 18\,30 alle ore 19\,45 
 presso la Sede di piazza del Duomo\, 16 a Milano.\n\nISCRIZIONI: info@mipe
 gno.com\n\n&nbsp\;\n\n&nbsp\;\n\n&nbsp\;
ATTACH;FMTTYPE=image/jpeg:https://lombardia.ucid.it/wp-content/uploads/202
 4/05/IL-FUTURO-DELLEUROPA.jpeg
LOCATION:Associazione Commercialisti Cattolici\, piazza del Duomo\, 16\, Mi
 lano\, Milano\, 20122\, Lombardia\, Israele
X-APPLE-STRUCTURED-LOCATION;VALUE=URI;X-ADDRESS=piazza del Duomo\, 16\, Mil
 ano\, Milano\, 20122\, Lombardia\, Israele;X-APPLE-RADIUS=100;X-TITLE=Asso
 ciazione Commercialisti Cattolici:geo:0,0
END:VEVENT
BEGIN:VTIMEZONE
TZID:Europe/Rome
X-LIC-LOCATION:Europe/Rome
BEGIN:DAYLIGHT
DTSTART:20240331T030000
TZOFFSETFROM:+0100
TZOFFSETTO:+0200
TZNAME:CEST
END:DAYLIGHT
END:VTIMEZONE
END:VCALENDAR