BEGIN:VCALENDAR
VERSION:2.0
PRODID:-//wp-events-plugin.com//7.2.3.1//EN
TZID:Europe/Rome
X-WR-TIMEZONE:Europe/Rome
BEGIN:VEVENT
UID:0-155@lombardia.ucid.it
DTSTART;TZID=Europe/Rome:20240923T193000
DTEND;TZID=Europe/Rome:20240923T213000
DTSTAMP:20240920T084928Z
URL:https://lombardia.ucid.it/events/generare-valore-nella-comunita-la-col
 laborazione-tra-imprese-e-territori-come-motore-del-cambiamento/
SUMMARY:Generare valore nella comunità. La collaborazione tra imprese e te
 rritori come motore del cambiamento.
DESCRIPTION:L'Ucid Sezione di Como avrà come ospite il Dott. Gianluca Bren
 na - Presidente Confindustria Como e Presidente e Amministratore Delegato 
 di Stamperia di Lipomo SpA - per una serata sul tema:\n“Generare valore 
 nella comunità. La collaborazione tra imprese e territori come motore del
  cambiamento.”\n\nIl Presidente Giovanni Carugati dice:\n\nRiallacciando
 ci al recente intervento dal titolo “Como\, città in cerca di futuro”
  vogliamo dialogare con il Dott Brenna sulla attuale situazione industrial
 e di Como e della sua provincia e sui piani di sviluppo di Confindustria C
 omo.  In attesa di ricevere conferma della Sua partecipazione a questa se
 rata unitamente al Suo gentile Coniuge\, ai Suoi collaboratori ed amici. 
  Ricordo che per gli invitati non soci è richiesto l’importo di €. 50
 \,00.\nCordiali saluti\n\nR.S.V.P. SEGRETERIA: Sig.ra Martina Passamonti /
  Chiara Bernasconi – Tel. 031.27132\,\nfax 031.3370372\, e-mail: m.passa
 monti@studio-livraghi.it c.bernasconi@studio-livraghi.it
CATEGORIES:Como
LOCATION:Casino del Teatro Sociale di Como\, piazza Verdi\,5\, Como\, Como\
 , 22100\, Lombardia\, Israele
X-APPLE-STRUCTURED-LOCATION;VALUE=URI;X-ADDRESS=piazza Verdi\,5\, Como\, Co
 mo\, 22100\, Lombardia\, Israele;X-APPLE-RADIUS=100;X-TITLE=Casino del Tea
 tro Sociale di Como:geo:0,0
END:VEVENT
BEGIN:VTIMEZONE
TZID:Europe/Rome
X-LIC-LOCATION:Europe/Rome
BEGIN:DAYLIGHT
DTSTART:20240331T030000
TZOFFSETFROM:+0100
TZOFFSETTO:+0200
TZNAME:CEST
END:DAYLIGHT
END:VTIMEZONE
END:VCALENDAR