BEGIN:VCALENDAR
VERSION:2.0
PRODID:-//wp-events-plugin.com//7.2.3.1//EN
TZID:Europe/Rome
X-WR-TIMEZONE:Europe/Rome
BEGIN:VEVENT
UID:0-156@lombardia.ucid.it
DTSTART;TZID=Europe/Rome:20241106T203000
DTEND;TZID=Europe/Rome:20241106T220000
DTSTAMP:20240923T145456Z
URL:https://lombardia.ucid.it/events/generare-valore-nella-comunita-la-col
 laborazione-tra-imprese-e-territori-come-motore-del-cambiamento-2/
SUMMARY:Generare valore nella comunità. La collaborazione tra imprese e te
 rritori come motore del cambiamento.
DESCRIPTION:Il Presidente del Gruppo Giovani Ucid Milano Filippo Bini Smagh
 i insieme all'Associazione Milano per Giovanni Paolo II\, presieduta da Fr
 ancesco Migliarese\, ha organizzato l'incontro dal titolo:\n\n"Tra conflit
 ti e dialogo: prospettive geopolitiche e umanitarie su Israele e Palestina
 " \n\ncon ospiti l'Ammiraglio di Squadra e Presidente di Mediterranean In
 security- Ferdinando Sanfelice di Monteforte - e il giornalista e Respons
 abile della Comunicazione dell'Associazione Pro Terra Sancta\, Andrea Avve
 duto.\n\nL'incontro si svolgerà mercoledì 6 novembre p.v. dalle ore 20\,
 30 presso la sede Ucid di Piazza Duomo\, 16 - Milano\n\nPer prenotarsi scr
 ivere una mail a: segreteria@ucidmilano.it
ATTACH;FMTTYPE=image/jpeg:https://lombardia.ucid.it/wp-content/uploads/202
 4/09/Israele-e-Palestina-.jpg
CATEGORIES:Milano
LOCATION:Sede Ucid\, piazza Duomo\, 16\, Milano\, MI\, 20122\, Lombardia\, 
 Italia
X-APPLE-STRUCTURED-LOCATION;VALUE=URI;X-ADDRESS=piazza Duomo\, 16\, Milano\
 , MI\, 20122\, Lombardia\, Italia;X-APPLE-RADIUS=100;X-TITLE=Sede Ucid:geo
 :0,0
END:VEVENT
BEGIN:VTIMEZONE
TZID:Europe/Rome
X-LIC-LOCATION:Europe/Rome
BEGIN:STANDARD
DTSTART:20241027T020000
TZOFFSETFROM:+0200
TZOFFSETTO:+0100
TZNAME:CET
END:STANDARD
END:VTIMEZONE
END:VCALENDAR