BEGIN:VCALENDAR
VERSION:2.0
PRODID:-//wp-events-plugin.com//7.2.3.1//EN
TZID:Europe/Rome
X-WR-TIMEZONE:Europe/Rome
BEGIN:VEVENT
UID:0-159@lombardia.ucid.it
DTSTART;TZID=Europe/Rome:20241114T183000
DTEND;TZID=Europe/Rome:20241114T213000
DTSTAMP:20241022T091859Z
URL:https://lombardia.ucid.it/events/economia-civile-economia-sociale-econ
 omia/
SUMMARY:ECONOMIA CIVILE - ECONOMIA SOCIALE: ECONOMIA!
DESCRIPTION:A partire dal libro bianco: “Principi di Economia Civile: una
  guida per imprenditori e dirigenti” - a cura di UCID Nazionale\n\nEconC
 IV EconSOC Locandina
CATEGORIES:Lecco
LOCATION:Auditorium BCC\, via Lazzaretto\, 15\, Oggiono\, Lecco\, 23848\, L
 ombardia\, Italia
X-APPLE-STRUCTURED-LOCATION;VALUE=URI;X-ADDRESS=via Lazzaretto\, 15\, Oggio
 no\, Lecco\, 23848\, Lombardia\, Italia;X-APPLE-RADIUS=100;X-TITLE=Auditor
 ium BCC:geo:0,0
END:VEVENT
BEGIN:VTIMEZONE
TZID:Europe/Rome
X-LIC-LOCATION:Europe/Rome
BEGIN:STANDARD
DTSTART:20241027T020000
TZOFFSETFROM:+0200
TZOFFSETTO:+0100
TZNAME:CET
END:STANDARD
END:VTIMEZONE
END:VCALENDAR