BEGIN:VCALENDAR
VERSION:2.0
PRODID:-//wp-events-plugin.com//7.2.3.1//EN
TZID:Europe/Rome
X-WR-TIMEZONE:Europe/Rome
BEGIN:VEVENT
UID:0-154@lombardia.ucid.it
DTSTART;TZID=Europe/Rome:20240708T193000
DTEND;TZID=Europe/Rome:20240708T220000
DTSTAMP:20240621T082015Z
URL:https://lombardia.ucid.it/events/como-citta-in-cerca-di-futuro/
SUMMARY:Como\, città in cerca di futuro”
DESCRIPTION:Riunione conviviale  -  LUNEDI’ 08 LUGLIO 2024 – ore 19\,
 30\n\nil Dott. Paolo Verri - Direttore della Fondazione Arnoldo e Alberto 
 Mondadori\; docente presso l’Università Cattolica di Milano\, lo IED e 
 lo IULM di Milano e il Dott. Paolo De Santis - Imprenditore nell’hotelle
 rie del lusso tramite la società di famiglia Meta SpA\, proprietaria di S
 heraton Como\, Grand Hotel di Tremezzo e Villa Passalacqua\, con la modera
 zione della giornalista Paola Manfredi si confronteranno sul tema: “Como
 \, città in cerca di futuro”.\n\nOgni città\, come ogni organismo vive
 nte\, non può mai dire “ce l’ho fatta”\; ogni città è una tartaru
 ga di straordinaria longevità e bellezza e le possibili evoluzioni degli 
 ecosistemi cittadini sono questioni chiave che intrecciano politica\, econ
 omia\, tecnologia\, demografia e innovazione culturale e danno forma e fut
 uro alle nostre società.\n\nPer gli invitati non soci è richiesto l’im
 porto di €. 50\,00.\n\nLocandina 8 luglio Verri De Santis_page-0001
CATEGORIES:Como
LOCATION:Casino del Teatro Sociale di Como\, piazza Verdi\, 1\, Como\, Como
 \, 22100\, Lombardia\, Italia
X-APPLE-STRUCTURED-LOCATION;VALUE=URI;X-ADDRESS=piazza Verdi\, 1\, Como\, C
 omo\, 22100\, Lombardia\, Italia;X-APPLE-RADIUS=100;X-TITLE=Casino del Tea
 tro Sociale di Como:geo:0,0
END:VEVENT
BEGIN:VTIMEZONE
TZID:Europe/Rome
X-LIC-LOCATION:Europe/Rome
BEGIN:DAYLIGHT
DTSTART:20240331T030000
TZOFFSETFROM:+0100
TZOFFSETTO:+0200
TZNAME:CEST
END:DAYLIGHT
END:VTIMEZONE
END:VCALENDAR