BEGIN:VCALENDAR
VERSION:2.0
PRODID:-//wp-events-plugin.com//7.2.3.1//EN
TZID:Europe/Rome
X-WR-TIMEZONE:Europe/Rome
BEGIN:VEVENT
UID:0-142@lombardia.ucid.it
DTSTART;TZID=Europe/Rome:20240418T194500
DTEND;TZID=Europe/Rome:20240418T223000
DTSTAMP:20240405T081920Z
URL:https://lombardia.ucid.it/events/como-citta-della-scienza-da-volta-a-o
 ggi/
SUMMARY:“Como città della scienza da Volta a oggi”
DESCRIPTION:\n\n\n\nGIOVEDI’ 18 APRILE 2024 dalle ore 19\,45 il Prof. Gi
 ulio Casati illustre fisico teorico comasco che si occupa di caos quantist
 ico e coordinatore scientifico di Fondazione Alessandro Volta\, del Festiv
 al della Luce e della Lake Como School of Advanced Studies terrà una re
 lazione intitolata: “Como città della scienza da Volta a oggi”.\n\n\
 n\n\n\n\n\n\n1827 muore Alessandro Volta: con le sue ricerche apre al mond
 o della scienza e della tecnica l’elettricità\, motore fondamentale di
  progresso per le attività umane dei secoli successivi. 1927 primo cente
 nario: il congresso dei fisici che arrivano da tutto il mondo conferma l
 ’universalità dei nuovi principi della fisica quantistica. In onore di
  Volta si costruiscono il faro di Brunate ed il Mausoleo Voltiano a Como. 
 Nell’avvicinarci alle celebrazioni per il secondo centenario il Prof Giu
 lio Casati\, illustre fisico teorico comasco\, ci proporrà un excursus s
 torico sul ruolo di Como nel panorama della ricerca scientifica moderna co
 n particolare focus sulle più attuali scoperte nel campo della fisica qu
 antistica.\n\n\nLocandina 18 aprile\n\n\n\n\n
LOCATION:Casino del Teatro Sociale di Como\, piazza Verdi\,5\, Como\, CO\, 
 22100\, Lombardia\, Israele
X-APPLE-STRUCTURED-LOCATION;VALUE=URI;X-ADDRESS=piazza Verdi\,5\, Como\, CO
 \, 22100\, Lombardia\, Israele;X-APPLE-RADIUS=100;X-TITLE=Casino del Teatr
 o Sociale di Como:geo:0,0
END:VEVENT
BEGIN:VTIMEZONE
TZID:Europe/Rome
X-LIC-LOCATION:Europe/Rome
BEGIN:DAYLIGHT
DTSTART:20240331T030000
TZOFFSETFROM:+0100
TZOFFSETTO:+0200
TZNAME:CEST
END:DAYLIGHT
END:VTIMEZONE
END:VCALENDAR