BEGIN:VCALENDAR
VERSION:2.0
PRODID:-//wp-events-plugin.com//7.2.3.1//EN
TZID:Europe/Rome
X-WR-TIMEZONE:Europe/Rome
BEGIN:VEVENT
UID:0-143@lombardia.ucid.it
DTSTART;TZID=Europe/Rome:20240420T103000
DTEND;TZID=Europe/Rome:20240420T153000
DTSTAMP:20240418T080252Z
URL:https://lombardia.ucid.it/events/4274/
SUMMARY:Visita congiunta delle Sezioni UCID di SONDRIO LECCO e COMO all’e
 x Convento S. Lorenzo della Casa vinicola Mamete Prevostini
DESCRIPTION:Invito San Lorenzo 20 apr 2024_Ucid Como\n\n&nbsp\;\n\nNell’a
 mbito delle iniziative congiunte tra le Sezioni UCID di Sondrio\, Lecco e 
 Como\, abbiamo il piacere di invitarvi a visitare una delle aziende del no
 stro territorio\, un’eccellenza nel campo della viticoltura e del vino: 
 la casa vinicola Mamete Prevostini. Saremo ospiti nell’ex Convento S. Lo
 renzo\, un antico palazzo del 1100\, con annessa chiesa\, di proprietà de
 lla famiglia De’ Capitanei che in seguito lo donò alle Suore di Santa C
 roce di Menzingen. Circondato da mura che racchiudono uno splendido vignet
 o nel cuore della “Sassella”\, vi si produce un ottimo vino\, chiamato
  appunto San Lorenzo\, un nebbiolo di alta qualità. La struttura\, un “
 Clos” unico nel paesaggio valtellinese\, gode di uno stupendo panorama s
 ulla vallata sottostante e sulla città di Sondrio. L’attuale proprietar
 io\, Mamete Prevostini\, così si presenta sul sito della sua azienda: “
 I grandi vini devono saper parlare con le persone\, essere fini ed elegant
 i\, ma sapere esprimere un territorio. I miei vini sono complessi\, ma non
  complicati e in Valtellina ho trovato tutti gli ingredienti per farli: la
  terra\, il clima\, il sole e le persone.” (visita il sito).\n\nDopo la 
 visita si proseguirà per il Ristorante Ca’ d’Otello\, a Tresivio (via
  Ca’ d’Otello 15)\, per il pranzo e un momento conviviale (visita il s
 ito).\n\n&nbsp\;
CATEGORIES:Como,Lecco,Sondrio
LOCATION:casa vinicola Mamete Prevostini\, ex Convento S. Lorenzo\, Sondrio
  (fraz. S.Anna)\, SO\, 23100\, Lombardia\, Israele
X-APPLE-STRUCTURED-LOCATION;VALUE=URI;X-ADDRESS=ex Convento S. Lorenzo\, So
 ndrio (fraz. S.Anna)\, SO\, 23100\, Lombardia\, Israele;X-APPLE-RADIUS=100
 ;X-TITLE=casa vinicola Mamete Prevostini:geo:0,0
END:VEVENT
BEGIN:VTIMEZONE
TZID:Europe/Rome
X-LIC-LOCATION:Europe/Rome
BEGIN:DAYLIGHT
DTSTART:20240331T030000
TZOFFSETFROM:+0100
TZOFFSETTO:+0200
TZNAME:CEST
END:DAYLIGHT
END:VTIMEZONE
END:VCALENDAR