BEGIN:VCALENDAR
VERSION:2.0
PRODID:-//wp-events-plugin.com//7.2.3.1//EN
TZID:Europe/Rome
X-WR-TIMEZONE:Europe/Rome
BEGIN:VEVENT
UID:0-1@lombardia.ucid.it
DTSTART;TZID=Europe/Rome:20250528T194500
DTEND;TZID=Europe/Rome:20250528T230000
DTSTAMP:20250519T213508Z
URL:https://lombardia.ucid.it/busto-arsizio/events/a-cena-con-fausto-bilos
 lavo-talebani-dellaccoglienza/
SUMMARY:a cena con Fausto Biloslavo - TALEBANI DELL'ACCOGLIENZA
DESCRIPTION:&nbsp\;\nGentili Soci e Amici\nUCID Sezione Bustese Alto Milane
 se e Valle Olona\n Lions Club Lombardia Digital LD\ne Famiglia Legnanese\
 nsono lieti di invitarVi all’intermeeting che si terrà\nMercoledì 28 m
 aggio p.v. alle ore 19.50\, presso il ristorante DINNER THE MODE\,\nin Via
  Giacomo Matteotti\, 3\, 20025 Legnano MI. \na cena con Fausto Biloslavo\
 n\nGiornalista\, scrittore\, dal 1982 cronista e inviato nei più caldi te
 atri di guerra.\nPresentazione del libro TALEBANI DELL’ACCOGLIENZA\nVitt
 ime e mercanti del business dell'immigrazione\ndibattito sul confine tra s
 olidarietà\, ideologia e interessi economici\n Dialogo con\nAndrea Sicco
  scrittore\, giornalista\,\nUno speciale ringraziamento a:\n\n“Solo i mi
 gliori specialisti in lavorazioni meccaniche e di precisione”\nMain spon
 sor della serata
ATTACH;FMTTYPE=image/jpeg:https://lombardia.ucid.it/busto-arsizio/wp-conte
 nt/uploads/sites/2/2025/05/biloslavo-e1747690799449.jpg
LOCATION:DINNER THE MODE\, Via Giacomo Matteotti\, 3\, Legnano\, Milano\, 2
 0025\, Lombardia\, Italia
X-APPLE-STRUCTURED-LOCATION;VALUE=URI;X-ADDRESS=Via Giacomo Matteotti\, 3\,
  Legnano\, Milano\, 20025\, Lombardia\, Italia;X-APPLE-RADIUS=100;X-TITLE=
 DINNER THE MODE:geo:0,0
END:VEVENT
BEGIN:VTIMEZONE
TZID:Europe/Rome
X-LIC-LOCATION:Europe/Rome
BEGIN:DAYLIGHT
DTSTART:20250330T030000
TZOFFSETFROM:+0100
TZOFFSETTO:+0200
TZNAME:CEST
END:DAYLIGHT
END:VTIMEZONE
END:VCALENDAR